BEGIN:VCALENDAR
VERSION:2.0
PRODID:-//Ginga UFF - ECPv6.15.20//NONSGML v1.0//EN
CALSCALE:GREGORIAN
METHOD:PUBLISH
X-WR-CALNAME:Ginga UFF
X-ORIGINAL-URL:https://gingauff.com.br
X-WR-CALDESC:Eventos para Ginga UFF
REFRESH-INTERVAL;VALUE=DURATION:PT1H
X-Robots-Tag:noindex
X-PUBLISHED-TTL:PT1H
BEGIN:VTIMEZONE
TZID:America/Sao_Paulo
BEGIN:STANDARD
TZOFFSETFROM:-0300
TZOFFSETTO:-0300
TZNAME:-03
DTSTART:20240101T000000
END:STANDARD
END:VTIMEZONE
BEGIN:VEVENT
DTSTART;TZID=America/Sao_Paulo:20251017T140000
DTEND;TZID=America/Sao_Paulo:20251017T180000
DTSTAMP:20260424T004501
CREATED:20251013T233928Z
LAST-MODIFIED:20251013T233928Z
UID:1638-1760709600-1760724000@gingauff.com.br
SUMMARY:Aula Aberta - História e Antropologia: encruzilhadas
DESCRIPTION:Na próxima sexta-feira\, 17 de outubro\, às 14h\, venha participar conosco dessa aula interdisciplinar com a palestra da Professora Lana Lage (INCT-InEAC\, GINGA-UFF) e mesa com a Profa. Ana Paula Miranda (PPGA/UFF\, Coord. GINGA-UFF) e o Prof. Adailton Moreira (Pós-doc PPGA/UFF\, GINGA-UFF). \n\n\n\n📍 Local: Sala 516\, bloco O – Campus do Gragoatá\, Niterói-RJ🕑 Horário: 14h🗓 Data: 17/10 \n\n\n\nVamos debater os cruzamentos entre História e Antropologia.Aula aberta ao público\, vem! 🤓
URL:https://gingauff.com.br/agenda/aula-aberta-historia-e-antropologia-encruzilhadas/
END:VEVENT
END:VCALENDAR