BEGIN:VCALENDAR
VERSION:2.0
PRODID:-//Ginga UFF - ECPv6.15.20//NONSGML v1.0//EN
CALSCALE:GREGORIAN
METHOD:PUBLISH
X-WR-CALNAME:Ginga UFF
X-ORIGINAL-URL:https://gingauff.com.br
X-WR-CALDESC:Eventos para Ginga UFF
REFRESH-INTERVAL;VALUE=DURATION:PT1H
X-Robots-Tag:noindex
X-PUBLISHED-TTL:PT1H
BEGIN:VTIMEZONE
TZID:America/Sao_Paulo
BEGIN:STANDARD
TZOFFSETFROM:-0300
TZOFFSETTO:-0300
TZNAME:-03
DTSTART:20240101T000000
END:STANDARD
END:VTIMEZONE
BEGIN:VEVENT
DTSTART;TZID=America/Sao_Paulo:20251201T080000
DTEND;TZID=America/Sao_Paulo:20251205T170000
DTSTAMP:20260423T210548
CREATED:20251209T222737Z
LAST-MODIFIED:20251209T222737Z
UID:1732-1764576000-1764954000@gingauff.com.br
SUMMARY:VIII Semana de Antropologia da UFS:
DESCRIPTION:OLHARES INSURGENTES E PRÁTICAS INSUBMISSAS \n\n\n\n\n\n\n\n\n\nO Programa de Pós-Graduação em Antropologia da Universidade Federal de Sergipe (PPGA-UFS) convida os movimentos sociais\, a sociedade civil e a comunidade acadêmica em geral a estabelecer um diálogo interdisciplinar com as antropologias atravessadas por “Olhares insurgentes e práticas insubmissas”. \n\n\n\n 
URL:https://gingauff.com.br/agenda/viii-semana-de-antropologia-da-ufs/
LOCATION:Cidade Univ. Prof. José Aloísio de Campos Av. Marcelo Deda Chagas\, s/n\, Bairro Rosa Elze São Cristóvão/SE CEP 49107-230
END:VEVENT
BEGIN:VEVENT
DTSTART;TZID=America/Sao_Paulo:20251202T080000
DTEND;TZID=America/Sao_Paulo:20251204T170000
DTSTAMP:20260423T210548
CREATED:20251209T223217Z
LAST-MODIFIED:20251209T223218Z
UID:1737-1764662400-1764867600@gingauff.com.br
SUMMARY:XIX Jornada Discente do Programa de Pós-Graduação em Antropologia da UFF
DESCRIPTION:Caderno Aberto: notas sobre o fazer etnográfico \n\n\n\n\n\n\n\n\n\n		\n			\n\n			\n\n		\n			\n			\n\nXIX Jornada Discente do Programa de Pós-Graduação em Antropologia da UFF – “Caderno Aberto: notas sobre o fazer etnográfico” Realização de 2 a 4 de dezembro de 2025\, no Auditório do Bloco O do ICHF/UFF\, Campus do Gragoatá (Niterói/RJ). A programação conta com mesas-redondas\, rodas de conversa\, oficinas e grupos de trabalho. 
URL:https://gingauff.com.br/agenda/xix-jornada-discente-do-programa-de-pos-graduacao-em-antropologia-da-uff/
END:VEVENT
END:VCALENDAR