BEGIN:VCALENDAR
VERSION:2.0
PRODID:-//Ginga UFF - ECPv6.15.20//NONSGML v1.0//EN
CALSCALE:GREGORIAN
METHOD:PUBLISH
X-ORIGINAL-URL:https://gingauff.com.br
X-WR-CALDESC:Eventos para Ginga UFF
REFRESH-INTERVAL;VALUE=DURATION:PT1H
X-Robots-Tag:noindex
X-PUBLISHED-TTL:PT1H
BEGIN:VTIMEZONE
TZID:America/Sao_Paulo
BEGIN:STANDARD
TZOFFSETFROM:-0300
TZOFFSETTO:-0300
TZNAME:-03
DTSTART:20240101T000000
END:STANDARD
END:VTIMEZONE
BEGIN:VEVENT
DTSTART;TZID=America/Sao_Paulo:20260416T140000
DTEND;TZID=America/Sao_Paulo:20260416T180000
DTSTAMP:20260423T130809
CREATED:20260407T181511Z
LAST-MODIFIED:20260407T181511Z
UID:1832-1776348000-1776362400@gingauff.com.br
SUMMARY:Palestra: Druidas\, shamanes\, monges e orixás: espiritualidades e patrimónios na montanha da Lua\, com a professora Clara Saraiva
DESCRIPTION:O PPGA-UFF e o Ginga-UFF têm o prazer de convidar toda a comunidade acadêmica para a palestra “Druidas\, shamanes\, monges e orixás: espiritualidades e patrimónios na montanha da Lua”. \n\n\n\nDia 16/04 receberemos a antropóloga Dra. Clara Saraiva\, investigadora sénior no Instituto de Ciências Sociais (ICS) da Universidade de Lisboa\, para uma reflexão sobre as intersecções entre espiritualidade e patrimônio. \n\n\n\nLocal: Bloco O\, sala 516\, Campus do Gragoatá
URL:https://gingauff.com.br/agenda/palestra-druidas-shamanes-monges-e-orixas-espiritualidades-e-patrimonios-na-montanha-da-lua-com-a-professora-clara-saraiva/
LOCATION:Bloco O\, Sala 516\, Campus do Gragoatá
END:VEVENT
BEGIN:VEVENT
DTSTART;TZID=America/Sao_Paulo:20251202T080000
DTEND;TZID=America/Sao_Paulo:20251204T170000
DTSTAMP:20260423T130809
CREATED:20251209T223217Z
LAST-MODIFIED:20251209T223218Z
UID:1737-1764662400-1764867600@gingauff.com.br
SUMMARY:XIX Jornada Discente do Programa de Pós-Graduação em Antropologia da UFF
DESCRIPTION:Caderno Aberto: notas sobre o fazer etnográfico \n\n\n\n\n\n\n\n\n\n		\n			\n\n			\n\n		\n			\n			\n\nXIX Jornada Discente do Programa de Pós-Graduação em Antropologia da UFF – “Caderno Aberto: notas sobre o fazer etnográfico” Realização de 2 a 4 de dezembro de 2025\, no Auditório do Bloco O do ICHF/UFF\, Campus do Gragoatá (Niterói/RJ). A programação conta com mesas-redondas\, rodas de conversa\, oficinas e grupos de trabalho. 
URL:https://gingauff.com.br/agenda/xix-jornada-discente-do-programa-de-pos-graduacao-em-antropologia-da-uff/
END:VEVENT
BEGIN:VEVENT
DTSTART;TZID=America/Sao_Paulo:20251201T080000
DTEND;TZID=America/Sao_Paulo:20251205T170000
DTSTAMP:20260423T130809
CREATED:20251209T222737Z
LAST-MODIFIED:20251209T222737Z
UID:1732-1764576000-1764954000@gingauff.com.br
SUMMARY:VIII Semana de Antropologia da UFS:
DESCRIPTION:OLHARES INSURGENTES E PRÁTICAS INSUBMISSAS \n\n\n\n\n\n\n\n\n\nO Programa de Pós-Graduação em Antropologia da Universidade Federal de Sergipe (PPGA-UFS) convida os movimentos sociais\, a sociedade civil e a comunidade acadêmica em geral a estabelecer um diálogo interdisciplinar com as antropologias atravessadas por “Olhares insurgentes e práticas insubmissas”. \n\n\n\n 
URL:https://gingauff.com.br/agenda/viii-semana-de-antropologia-da-ufs/
LOCATION:Cidade Univ. Prof. José Aloísio de Campos Av. Marcelo Deda Chagas\, s/n\, Bairro Rosa Elze São Cristóvão/SE CEP 49107-230
END:VEVENT
BEGIN:VEVENT
DTSTART;TZID=America/Sao_Paulo:20251118T180000
DTEND;TZID=America/Sao_Paulo:20251118T200000
DTSTAMP:20260423T130809
CREATED:20251118T161024Z
LAST-MODIFIED:20251118T161025Z
UID:1724-1763488800-1763496000@gingauff.com.br
SUMMARY:Palestra: Xangô em Três Tempos: Silêncio\, Memória e Reparação com o professor Ulisses Rafael
DESCRIPTION:É com grande alegria que o PPGA-UFF e o Ginga-UFF\, por meio do Convênio Capes/PRAPG-UFS\, convidam o professor Ulisses Rafael para a palestra “Xangô em Três Tempos: Silêncio\, Memória e Reparação”.O encontro discutirá a pesquisa do professor sobre o Quebra de Xangô\, episódio de destruição dos terreiros e perseguição às religiões de matriz africana\, promovido por uma milícia paramilitar em Maceió\, no ano de 1912\, e suas repercussões para os terreiros e para a sociedade no período pós-Quebra até os dias atuais.A palestra será aberta ao público\, e você é nosso(a) convidado(a)! \n\n\n\nVenha debater\, contribuir e compartilhar seu conhecimento conosco.
URL:https://gingauff.com.br/agenda/palestra-xango-em-tres-tempos-silencio-memoria-e-reparacao-com-o-professor-ulisses-rafael/
END:VEVENT
BEGIN:VEVENT
DTSTART;TZID=America/Sao_Paulo:20251117T140000
DTEND;TZID=America/Sao_Paulo:20251126T170000
DTSTAMP:20260423T130809
CREATED:20251116T153007Z
LAST-MODIFIED:20251116T153008Z
UID:1718-1763388000-1764176400@gingauff.com.br
SUMMARY:XII Seminário Internacional INCT-InEAC
DESCRIPTION:Neste ano\, a 12ª edição do Seminário Internacional do Instituto de Estudos Comparados em Administração de Conflitos da Universidade Federal Fluminense (INCT- InEAC) é uma homenagem ao antropólogo\, à sua obra e às pesquisas que estruturaram a consolidação de toda a rede nacional e internacional que compõem o Instituto. O evento acontece entre os próximos dias 17 a 19 de novembro\, na modalidade online\, e 24 a 26 de novembro\, na modalidade presencial.
URL:https://gingauff.com.br/agenda/xii-seminario-internacional-inct-ineac/
END:VEVENT
BEGIN:VEVENT
DTSTART;TZID=America/Sao_Paulo:20251020T100000
DTEND;TZID=America/Sao_Paulo:20251020T170000
DTSTAMP:20260423T130809
CREATED:20251030T123010Z
LAST-MODIFIED:20251030T123010Z
UID:1643-1760954400-1760979600@gingauff.com.br
SUMMARY:IV ENCONTRO GINGA: Terreiros em Movimento
DESCRIPTION:Vem para o IV Encontro Ginga! \n\n\n\nO IV Encontro Ginga – Terreiros em Movimento abre espaço para o diálogo sobre as formas de resistência\, organização e produção de saberes dos povos e comunidades de matriz africana. \n\n\n\n📅 Dia: 20 de outubro📍 Local: Sala 516\, Bloco O – Campus Gragoatá\, Universidade Federal Fluminense (UFF)\, Niterói – RJ
URL:https://gingauff.com.br/agenda/iv-encontro-ginga-terreiros-em-movimento/
END:VEVENT
BEGIN:VEVENT
DTSTART;TZID=America/Sao_Paulo:20251017T140000
DTEND;TZID=America/Sao_Paulo:20251017T180000
DTSTAMP:20260423T130809
CREATED:20251013T233928Z
LAST-MODIFIED:20251013T233928Z
UID:1638-1760709600-1760724000@gingauff.com.br
SUMMARY:Aula Aberta - História e Antropologia: encruzilhadas
DESCRIPTION:Na próxima sexta-feira\, 17 de outubro\, às 14h\, venha participar conosco dessa aula interdisciplinar com a palestra da Professora Lana Lage (INCT-InEAC\, GINGA-UFF) e mesa com a Profa. Ana Paula Miranda (PPGA/UFF\, Coord. GINGA-UFF) e o Prof. Adailton Moreira (Pós-doc PPGA/UFF\, GINGA-UFF). \n\n\n\n📍 Local: Sala 516\, bloco O – Campus do Gragoatá\, Niterói-RJ🕑 Horário: 14h🗓 Data: 17/10 \n\n\n\nVamos debater os cruzamentos entre História e Antropologia.Aula aberta ao público\, vem! 🤓
URL:https://gingauff.com.br/agenda/aula-aberta-historia-e-antropologia-encruzilhadas/
END:VEVENT
BEGIN:VEVENT
DTSTART;TZID=America/Sao_Paulo:20250917T100000
DTEND;TZID=America/Sao_Paulo:20250919T170000
DTSTAMP:20260423T130809
CREATED:20250916T174031Z
LAST-MODIFIED:20250916T174616Z
UID:1630-1758103200-1758301200@gingauff.com.br
SUMMARY:Colóquio Internacional Mundos em Transição: novas abordagens do trabalho de campo
DESCRIPTION:🌎GINGA na Temporada França-Brasil 2025! \n\n\n\nO evento terá como sede a Maison du CNRS-USP\, na cidade universitária\, em São Paulo–SP/Brasil. A proposta é refletir criticamente sobre os desafios contemporâneos das práticas de campo\, associando-os às dinâmicas de transição — sociais\, políticas\, ambientais e epistemológicas — que atravessam nossas sociedades. Trata-se\, portanto\, de uma oportunidade para repensar os métodos\, as éticas e os posicionamentos envolvidos na produção de conhecimento em contextos marcados por profundas transformações. \n\n\n\n📌Abrindo o evento teremos a palestra da professora Luena Pereira (PPGCS-UFRRJ): “Instabilidades no terreno: duas experiências de campo em Angola”. A professora Ana Paula Miranda participará da Mesa 1 do evento falando sobre a Antropologia Enredada\, e nosso pesquisador Leonardo Vieira participará da roda de conversa “Trabalho de campo em tempos de conflitos num mundo em transição”\, falando das mobilizações dos povos de terreiros por políticas públicas. \n\n\n\n📅 O evento é uma oportunidade para refletir coletivamente sobre métodos\, desafios e sentidos do trabalho de campo hoje.
URL:https://gingauff.com.br/agenda/coloquio-internacional-mundos-em-transicao-novas-abordagens-do-trabalho-de-campo/
END:VEVENT
BEGIN:VEVENT
DTSTART;TZID=America/Sao_Paulo:20250804T000000
DTEND;TZID=America/Sao_Paulo:20250808T235959
DTSTAMP:20260423T130809
CREATED:20250617T233442Z
LAST-MODIFIED:20250617T233443Z
UID:1543-1754265600-1754697599@gingauff.com.br
SUMMARY:Reunião de Antropologia- XV RAM
DESCRIPTION:GT 097: Etnografias da estatalidade e dos ativismos: análise das intervenções e incidências de burocracias e militâncias as no campo dos conflitos e demandas por direitosCoordenador(a)Ana Paula Mendes de Miranda (UFF)\, María Victoria Pita (CONICET | UBA)
URL:https://gingauff.com.br/agenda/reuniao-de-antropologia-xv-ram/
ATTACH;FMTTYPE=image/jpeg:https://gingauff.com.br/site/wp-content/uploads/2025/06/XV-RAM-cfp-gh36543.jpg
END:VEVENT
BEGIN:VEVENT
DTSTART;TZID=America/Sao_Paulo:20250714T080000
DTEND;TZID=America/Sao_Paulo:20250718T170000
DTSTAMP:20260423T130809
CREATED:20250617T232704Z
LAST-MODIFIED:20250617T232704Z
UID:1540-1752480000-1752858000@gingauff.com.br
SUMMARY:IX Congresso APA (Associação Portuguesa de Antropologia)
DESCRIPTION:O tema Itinerâncias pretende congregar as dinâmicas da disciplina nas suas várias vertentes\, os fluxos das sociedades que nos envolvem e seus múltiplos desafios cognitivos\, políticos e éticos\, e as propostas analíticas de superação do quadro antropocêntrico tradicional.
URL:https://gingauff.com.br/agenda/ix-congresso-apa-associacao-portuguesa-de-antropologia/
ATTACH;FMTTYPE=image/webp:https://gingauff.com.br/site/wp-content/uploads/2025/06/mini-Portal-dimensoes.webp
END:VEVENT
BEGIN:VEVENT
DTSTART;TZID=America/Sao_Paulo:20250603T080000
DTEND;TZID=America/Sao_Paulo:20250607T170000
DTSTAMP:20260423T130809
CREATED:20250529T225105Z
LAST-MODIFIED:20250617T231830Z
UID:1536-1748937600-1749315600@gingauff.com.br
SUMMARY:XII Congresso Brasileiro de Direito Socioambiental e XII Congresso da Rede Latino-americana de Antropología Jurídica (RELAJU)
DESCRIPTION:A Rede de Latino-americana de Atropología Jurícia (RELAJU) é formada por antropólogos\, advogados\, sociólogos e outros especialistas em ciências sociais de diversas partes do mundo\, que atuam na América Latina no estudo e promoção da antropologia jurídica e do pluralismo jurídico com caráter crítico e social. 
URL:https://gingauff.com.br/agenda/xii-congresso-brasileiro-de-direito-socioambiental-e-xii-congresso-da-rede-latino-americana-de-antropologia-juridica-relaju/
ATTACH;FMTTYPE=image/png:https://gingauff.com.br/site/wp-content/uploads/2025/06/Card-Resumo-PT1.png
END:VEVENT
BEGIN:VEVENT
DTSTART;TZID=America/Sao_Paulo:20250520T080000
DTEND;TZID=America/Sao_Paulo:20250520T170000
DTSTAMP:20260423T130809
CREATED:20250515T223800Z
LAST-MODIFIED:20250617T224105Z
UID:1534-1747728000-1747760400@gingauff.com.br
SUMMARY:Roda de conversa sobre lideranças religiosas em Aracaju
DESCRIPTION:
URL:https://gingauff.com.br/agenda/roda-de-conversa-sobre-liderancas-religiosas-em-aracaju/
ATTACH;FMTTYPE=image/webp:https://gingauff.com.br/site/wp-content/uploads/2025/02/Miniatura-evento.webp
END:VEVENT
END:VCALENDAR