BEGIN:VCALENDAR
VERSION:2.0
PRODID:-//Ginga UFF - ECPv6.15.20//NONSGML v1.0//EN
CALSCALE:GREGORIAN
METHOD:PUBLISH
X-ORIGINAL-URL:https://gingauff.com.br
X-WR-CALDESC:Eventos para Ginga UFF
REFRESH-INTERVAL;VALUE=DURATION:PT1H
X-Robots-Tag:noindex
X-PUBLISHED-TTL:PT1H
BEGIN:VTIMEZONE
TZID:America/Sao_Paulo
BEGIN:STANDARD
TZOFFSETFROM:-0300
TZOFFSETTO:-0300
TZNAME:-03
DTSTART:20240101T000000
END:STANDARD
END:VTIMEZONE
BEGIN:VEVENT
DTSTART;TZID=America/Sao_Paulo:20250520T080000
DTEND;TZID=America/Sao_Paulo:20250520T170000
DTSTAMP:20260424T075703
CREATED:20250515T223800Z
LAST-MODIFIED:20250617T224105Z
UID:1534-1747728000-1747760400@gingauff.com.br
SUMMARY:Roda de conversa sobre lideranças religiosas em Aracaju
DESCRIPTION:
URL:https://gingauff.com.br/agenda/roda-de-conversa-sobre-liderancas-religiosas-em-aracaju/
ATTACH;FMTTYPE=image/webp:https://gingauff.com.br/site/wp-content/uploads/2025/02/Miniatura-evento.webp
END:VEVENT
END:VCALENDAR